Package: gcrma Version: 2.76.0 Command: rm -rf gcrma.buildbin-libdir && mkdir gcrma.buildbin-libdir && E:\biocbuild\bbs-3.19-bioc\R\bin\R.exe CMD INSTALL --build --library=gcrma.buildbin-libdir gcrma_2.76.0.tar.gz StartedAt: 2024-10-17 07:49:37 -0400 (Thu, 17 Oct 2024) EndedAt: 2024-10-17 07:49:57 -0400 (Thu, 17 Oct 2024) EllapsedTime: 20.0 seconds RetCode: 0 Status: OK PackageFile: gcrma_2.76.0.zip PackageFileSize: 258.8 KiB