Package: gcrma Version: 2.76.0 Command: chmod a+r gcrma -R && E:\biocbuild\bbs-3.19-bioc\R\bin\R.exe CMD build --keep-empty-dirs --no-resave-data gcrma StartedAt: 2024-10-16 19:18:46 -0400 (Wed, 16 Oct 2024) EndedAt: 2024-10-16 19:19:10 -0400 (Wed, 16 Oct 2024) EllapsedTime: 24.1 seconds RetCode: 0 Status: OK PackageFile: gcrma_2.76.0.tar.gz PackageFileSize: 150.9 KiB