Package: gcrma Version: 2.76.0 Command: E:\biocbuild\bbs-3.19-bioc\R\bin\R.exe CMD check --no-multiarch --install=check:gcrma.install-out.txt --library=E:\biocbuild\bbs-3.19-bioc\R\library --no-vignettes --timings gcrma_2.76.0.tar.gz StartedAt: 2024-10-17 01:39:28 -0400 (Thu, 17 Oct 2024) EndedAt: 2024-10-17 01:41:35 -0400 (Thu, 17 Oct 2024) EllapsedTime: 126.5 seconds RetCode: 0 Status: OK CheckDir: gcrma.Rcheck Warnings: 0