Package: geNetClassifier Version: 1.44.0 Command: /Library/Frameworks/R.framework/Resources/bin/R CMD build --keep-empty-dirs --no-resave-data geNetClassifier StartedAt: 2024-10-16 19:28:45 -0400 (Wed, 16 Oct 2024) EndedAt: 2024-10-16 19:29:29 -0400 (Wed, 16 Oct 2024) EllapsedTime: 44.5 seconds RetCode: 0 Status: OK PackageFile: geNetClassifier_1.44.0.tar.gz PackageFileSize: 3.94 MiB