Package: gemma.R Version: 3.0.14 Maintainer: Ogan Mancarci MaintainerEmail: ogan.mancarci at gmail.com git_url: https://git.bioconductor.org/packages/gemma.R git_branch: RELEASE_3_19 git_last_commit: a5b89bb git_last_commit_date: 2024-08-08 16:32:34 -0400 (Thu, 08 Aug 2024)