Package: gemma.R Version: 3.0.14 Command: /Library/Frameworks/R.framework/Resources/bin/R CMD check --install=check:gemma.R.install-out.txt --library=/Library/Frameworks/R.framework/Resources/library --no-vignettes --timings gemma.R_3.0.14.tar.gz StartedAt: 2024-10-17 22:27:54 -0400 (Thu, 17 Oct 2024) EndedAt: 2024-10-17 22:35:23 -0400 (Thu, 17 Oct 2024) EllapsedTime: 449.8 seconds RetCode: 0 Status: OK CheckDir: gemma.R.Rcheck Warnings: 0