Package: gemma.R Version: 3.0.6 Command: /Library/Frameworks/R.framework/Resources/bin/R CMD check --install=check:gemma.R.install-out.txt --library=/Library/Frameworks/R.framework/Resources/library --no-vignettes --timings gemma.R_3.0.6.tar.gz StartedAt: 2024-06-10 16:29:25 -0400 (Mon, 10 Jun 2024) EndedAt: 2024-06-10 16:36:55 -0400 (Mon, 10 Jun 2024) EllapsedTime: 449.7 seconds RetCode: 1 Status: ERROR CheckDir: gemma.R.Rcheck Warnings: NA