Package: gemma.R Version: 3.0.6 Command: /Library/Frameworks/R.framework/Resources/bin/R CMD INSTALL gemma.R StartedAt: 2024-06-09 16:00:38 -0400 (Sun, 09 Jun 2024) EndedAt: 2024-06-09 16:00:48 -0400 (Sun, 09 Jun 2024) EllapsedTime: 9.6 seconds RetCode: 0 Status: OK