Package: gemma.R Version: 3.0.3 Command: /home/biocbuild/R/R-beta-2024-04-15_r86425/bin/R CMD INSTALL gemma.R StartedAt: 2024-05-08 20:17:28 -0000 (Wed, 08 May 2024) EndedAt: 2024-05-08 20:17:35 -0000 (Wed, 08 May 2024) EllapsedTime: 6.8 seconds RetCode: 0 Status: OK