Package: gemma.R Version: 3.0.6 Command: /Library/Frameworks/R.framework/Resources/bin/R CMD check --install=check:gemma.R.install-out.txt --library=/Library/Frameworks/R.framework/Resources/library --no-vignettes --timings gemma.R_3.0.6.tar.gz StartedAt: 2024-06-09 20:30:33 -0400 (Sun, 09 Jun 2024) EndedAt: 2024-06-09 20:37:06 -0400 (Sun, 09 Jun 2024) EllapsedTime: 393.1 seconds RetCode: 1 Status: ERROR CheckDir: gemma.R.Rcheck Warnings: NA