Package: gemma.R Version: 3.0.6 Command: /Library/Frameworks/R.framework/Resources/bin/R CMD INSTALL gemma.R StartedAt: 2024-06-09 15:13:43 -0400 (Sun, 09 Jun 2024) EndedAt: 2024-06-09 15:13:52 -0400 (Sun, 09 Jun 2024) EllapsedTime: 8.9 seconds RetCode: 0 Status: OK