Package: gemma.R Version: 3.0.14 Command: /Library/Frameworks/R.framework/Resources/bin/R CMD build --keep-empty-dirs --no-resave-data gemma.R StartedAt: 2024-10-16 19:26:30 -0400 (Wed, 16 Oct 2024) EndedAt: 2024-10-16 19:32:38 -0400 (Wed, 16 Oct 2024) EllapsedTime: 367.2 seconds RetCode: 0 Status: OK PackageFile: gemma.R_3.0.14.tar.gz PackageFileSize: 2.111 MiB