Package: gemma.R Version: 3.0.14 Command: /home/biocbuild/bbs-3.19-bioc/R/bin/R CMD check --install=check:gemma.R.install-out.txt --library=/home/biocbuild/bbs-3.19-bioc/R/site-library --timings gemma.R_3.0.14.tar.gz StartedAt: 2024-10-17 00:40:10 -0400 (Thu, 17 Oct 2024) EndedAt: 2024-10-17 00:52:40 -0400 (Thu, 17 Oct 2024) EllapsedTime: 750.5 seconds RetCode: 0 Status: OK CheckDir: gemma.R.Rcheck Warnings: 0