Package: gemma.R Version: 3.0.8 Command: F:\biocbuild\bbs-3.19-bioc\R\bin\R.exe CMD INSTALL gemma.R StartedAt: 2024-06-26 15:56:29 -0400 (Wed, 26 Jun 2024) EndedAt: 2024-06-26 15:56:43 -0400 (Wed, 26 Jun 2024) EllapsedTime: 13.6 seconds RetCode: 0 Status: OK