Package: gemma.R Version: 3.0.14 Command: rm -rf gemma.R.buildbin-libdir && mkdir gemma.R.buildbin-libdir && E:\biocbuild\bbs-3.19-bioc\R\bin\R.exe CMD INSTALL --build --library=gemma.R.buildbin-libdir gemma.R_3.0.14.tar.gz StartedAt: 2024-10-17 07:50:07 -0400 (Thu, 17 Oct 2024) EndedAt: 2024-10-17 07:50:43 -0400 (Thu, 17 Oct 2024) EllapsedTime: 36.1 seconds RetCode: 0 Status: OK PackageFile: gemma.R_3.0.14.zip PackageFileSize: 1.841 MiB