Package: gemma.R Version: 3.0.14 Command: E:\biocbuild\bbs-3.19-bioc\R\bin\R.exe CMD INSTALL gemma.R StartedAt: 2024-10-16 16:34:40 -0400 (Wed, 16 Oct 2024) EndedAt: 2024-10-16 16:35:08 -0400 (Wed, 16 Oct 2024) EllapsedTime: 27.5 seconds RetCode: 0 Status: OK