Package: genArise Version: 1.80.0 Command: rm -rf genArise.buildbin-libdir && mkdir genArise.buildbin-libdir && E:\biocbuild\bbs-3.19-bioc\R\bin\R.exe CMD INSTALL --build --library=genArise.buildbin-libdir genArise_1.80.0.tar.gz StartedAt: 2024-10-17 07:50:09 -0400 (Thu, 17 Oct 2024) EndedAt: 2024-10-17 07:50:30 -0400 (Thu, 17 Oct 2024) EllapsedTime: 21.6 seconds RetCode: 0 Status: OK PackageFile: genArise_1.80.0.zip PackageFileSize: 1.047 MiB