Package: genArise Version: 1.80.0 Command: chmod a+r genArise -R && E:\biocbuild\bbs-3.19-bioc\R\bin\R.exe CMD build --keep-empty-dirs --no-resave-data genArise StartedAt: 2024-10-16 19:20:35 -0400 (Wed, 16 Oct 2024) EndedAt: 2024-10-16 19:20:58 -0400 (Wed, 16 Oct 2024) EllapsedTime: 23.1 seconds RetCode: 0 Status: OK PackageFile: genArise_1.80.0.tar.gz PackageFileSize: 844 KiB