Package: geneAttribution Version: 1.30.0 Command: /home/biocbuild/R/R-beta-2024-04-15_r86425/bin/R CMD build --keep-empty-dirs --no-resave-data geneAttribution StartedAt: 2024-05-09 00:27:17 -0000 (Thu, 09 May 2024) EndedAt: 2024-05-09 00:28:04 -0000 (Thu, 09 May 2024) EllapsedTime: 47.1 seconds RetCode: 0 Status: OK PackageFile: geneAttribution_1.30.0.tar.gz PackageFileSize: 39.8 KiB