Package: geneAttribution Version: 1.30.0 Command: rm -rf geneAttribution.buildbin-libdir && mkdir geneAttribution.buildbin-libdir && /Users/biocbuild/BBS/utils/build-universal.sh geneAttribution_1.30.0.tar.gz /Library/Frameworks/R.framework/Resources/bin/R geneAttribution.buildbin-libdir StartedAt: 2024-06-10 00:19:21 -0400 (Mon, 10 Jun 2024) EndedAt: 2024-06-10 00:20:07 -0400 (Mon, 10 Jun 2024) EllapsedTime: 46.6 seconds RetCode: 0 Status: OK PackageFile: geneAttribution_1.30.0.tgz PackageFileSize: 63.67 KiB