Package: geneAttribution Version: 1.30.0 Command: rm -rf geneAttribution.buildbin-libdir && mkdir geneAttribution.buildbin-libdir && F:\biocbuild\bbs-3.19-bioc\R\bin\R.exe CMD INSTALL --build --library=geneAttribution.buildbin-libdir geneAttribution_1.30.0.tar.gz StartedAt: 2024-06-27 08:15:17 -0400 (Thu, 27 Jun 2024) EndedAt: 2024-06-27 08:16:17 -0400 (Thu, 27 Jun 2024) EllapsedTime: 59.4 seconds RetCode: 0 Status: OK PackageFile: geneAttribution_1.30.0.zip PackageFileSize: 68.83 KiB