Package: geneAttribution Version: 1.30.0 Command: E:\biocbuild\bbs-3.19-bioc\R\bin\R.exe CMD INSTALL geneAttribution StartedAt: 2024-10-16 16:31:55 -0400 (Wed, 16 Oct 2024) EndedAt: 2024-10-16 16:32:37 -0400 (Wed, 16 Oct 2024) EllapsedTime: 42.3 seconds RetCode: 0 Status: OK