Package: geneRxCluster Version: 1.40.0 Command: /home/biocbuild/bbs-3.19-bioc/R/bin/R CMD build --keep-empty-dirs --no-resave-data geneRxCluster StartedAt: 2024-10-16 18:38:17 -0400 (Wed, 16 Oct 2024) EndedAt: 2024-10-16 18:38:53 -0400 (Wed, 16 Oct 2024) EllapsedTime: 36.1 seconds RetCode: 0 Status: OK PackageFile: geneRxCluster_1.40.0.tar.gz PackageFileSize: 142 KiB