Package: geneRxCluster Version: 1.40.0 Command: rm -rf geneRxCluster.buildbin-libdir && mkdir geneRxCluster.buildbin-libdir && F:\biocbuild\bbs-3.19-bioc\R\bin\R.exe CMD INSTALL --build --library=geneRxCluster.buildbin-libdir geneRxCluster_1.40.0.tar.gz StartedAt: 2024-06-27 08:15:44 -0400 (Thu, 27 Jun 2024) EndedAt: 2024-06-27 08:16:24 -0400 (Thu, 27 Jun 2024) EllapsedTime: 40.2 seconds RetCode: 0 Status: OK PackageFile: geneRxCluster_1.40.0.zip PackageFileSize: 203.3 KiB