Package: geneRxCluster Version: 1.40.0 Command: chmod a+r geneRxCluster -R && F:\biocbuild\bbs-3.19-bioc\R\bin\R.exe CMD build --keep-empty-dirs --no-resave-data geneRxCluster StartedAt: 2024-06-26 19:06:11 -0400 (Wed, 26 Jun 2024) EndedAt: 2024-06-26 19:06:55 -0400 (Wed, 26 Jun 2024) EllapsedTime: 43.9 seconds RetCode: 0 Status: OK PackageFile: geneRxCluster_1.40.0.tar.gz PackageFileSize: 142.8 KiB