Package: geneRxCluster Version: 1.40.0 Command: rm -rf geneRxCluster.buildbin-libdir && mkdir geneRxCluster.buildbin-libdir && E:\biocbuild\bbs-3.19-bioc\R\bin\R.exe CMD INSTALL --build --library=geneRxCluster.buildbin-libdir geneRxCluster_1.40.0.tar.gz StartedAt: 2024-10-17 07:50:57 -0400 (Thu, 17 Oct 2024) EndedAt: 2024-10-17 07:51:18 -0400 (Thu, 17 Oct 2024) EllapsedTime: 21.2 seconds RetCode: 0 Status: OK PackageFile: geneRxCluster_1.40.0.zip PackageFileSize: 204.3 KiB