Package: geneXtendeR Version: 1.30.0 Maintainer: Bohdan Khomtchouk MaintainerEmail: khomtchoukmed at gmail.com git_url: https://git.bioconductor.org/packages/geneXtendeR git_branch: RELEASE_3_19 git_last_commit: b72e319 git_last_commit_date: 2024-04-30 10:54:08 -0400 (Tue, 30 Apr 2024)