Package: genoCN Version: 1.56.0 Command: rm -rf genoCN.buildbin-libdir && mkdir genoCN.buildbin-libdir && /Users/biocbuild/BBS/utils/build-universal.sh genoCN_1.56.0.tar.gz /Library/Frameworks/R.framework/Resources/bin/R genoCN.buildbin-libdir StartedAt: 2024-10-18 18:39:21 -0400 (Fri, 18 Oct 2024) EndedAt: 2024-10-18 18:39:30 -0400 (Fri, 18 Oct 2024) EllapsedTime: 9.2 seconds RetCode: 0 Status: OK PackageFile: genoCN_1.56.0.tgz PackageFileSize: 1014 KiB