Package: genoCN Version: 1.56.0 Command: /Library/Frameworks/R.framework/Resources/bin/R CMD build --keep-empty-dirs --no-resave-data genoCN StartedAt: 2024-10-17 01:03:40 -0400 (Thu, 17 Oct 2024) EndedAt: 2024-10-17 01:03:58 -0400 (Thu, 17 Oct 2024) EllapsedTime: 18.2 seconds RetCode: 0 Status: OK PackageFile: genoCN_1.56.0.tar.gz PackageFileSize: 1.139 MiB