Package: genoCN Version: 1.56.0 Command: chmod a+r genoCN -R && F:\biocbuild\bbs-3.19-bioc\R\bin\R.exe CMD build --keep-empty-dirs --no-resave-data genoCN StartedAt: 2024-06-26 19:06:55 -0400 (Wed, 26 Jun 2024) EndedAt: 2024-06-26 19:07:14 -0400 (Wed, 26 Jun 2024) EllapsedTime: 19.2 seconds RetCode: 0 Status: OK PackageFile: genoCN_1.56.0.tar.gz PackageFileSize: 1.026 MiB