Package: genoCN Version: 1.56.0 Command: chmod a+r genoCN -R && E:\biocbuild\bbs-3.19-bioc\R\bin\R.exe CMD build --keep-empty-dirs --no-resave-data genoCN StartedAt: 2024-10-16 19:22:22 -0400 (Wed, 16 Oct 2024) EndedAt: 2024-10-16 19:22:42 -0400 (Wed, 16 Oct 2024) EllapsedTime: 20.3 seconds RetCode: 0 Status: OK PackageFile: genoCN_1.56.0.tar.gz PackageFileSize: 1.027 MiB