Package: genoCN Version: 1.56.0 Command: E:\biocbuild\bbs-3.19-bioc\R\bin\R.exe CMD INSTALL genoCN StartedAt: 2024-10-16 16:11:16 -0400 (Wed, 16 Oct 2024) EndedAt: 2024-10-16 16:11:28 -0400 (Wed, 16 Oct 2024) EllapsedTime: 12.1 seconds RetCode: 0 Status: OK