Package: gep2pep Version: 1.24.0 Command: /home/biocbuild/R/R-beta-2024-04-15_r86425/bin/R CMD build --keep-empty-dirs --no-resave-data gep2pep StartedAt: 2024-05-09 00:33:53 -0000 (Thu, 09 May 2024) EndedAt: 2024-05-09 00:34:26 -0000 (Thu, 09 May 2024) EllapsedTime: 33.0 seconds RetCode: 0 Status: OK PackageFile: gep2pep_1.24.0.tar.gz PackageFileSize: 122.4 KiB