Package: gep2pep Version: 1.24.0 Command: /Library/Frameworks/R.framework/Resources/bin/R CMD check --install=check:gep2pep.install-out.txt --library=/Library/Frameworks/R.framework/Resources/library --no-vignettes --timings gep2pep_1.24.0.tar.gz StartedAt: 2024-06-09 20:37:23 -0400 (Sun, 09 Jun 2024) EndedAt: 2024-06-09 20:40:08 -0400 (Sun, 09 Jun 2024) EllapsedTime: 164.5 seconds RetCode: 0 Status: OK CheckDir: gep2pep.Rcheck Warnings: 0