Package: gep2pep Version: 1.24.0 Command: /Library/Frameworks/R.framework/Resources/bin/R CMD build --keep-empty-dirs --no-resave-data gep2pep StartedAt: 2024-10-16 19:34:18 -0400 (Wed, 16 Oct 2024) EndedAt: 2024-10-16 19:35:23 -0400 (Wed, 16 Oct 2024) EllapsedTime: 65.6 seconds RetCode: 0 Status: OK PackageFile: gep2pep_1.24.0.tar.gz PackageFileSize: 121.8 KiB