Package: gep2pep Version: 1.24.0 Command: rm -rf gep2pep.buildbin-libdir && mkdir gep2pep.buildbin-libdir && F:\biocbuild\bbs-3.19-bioc\R\bin\R.exe CMD INSTALL --build --library=gep2pep.buildbin-libdir gep2pep_1.24.0.tar.gz StartedAt: 2024-06-27 08:17:14 -0400 (Thu, 27 Jun 2024) EndedAt: 2024-06-27 08:17:39 -0400 (Thu, 27 Jun 2024) EllapsedTime: 25.1 seconds RetCode: 0 Status: OK PackageFile: gep2pep_1.24.0.zip PackageFileSize: 470.4 KiB