Package: gep2pep Version: 1.24.0 Command: rm -rf gep2pep.buildbin-libdir && mkdir gep2pep.buildbin-libdir && E:\biocbuild\bbs-3.19-bioc\R\bin\R.exe CMD INSTALL --build --library=gep2pep.buildbin-libdir gep2pep_1.24.0.tar.gz StartedAt: 2024-10-17 07:52:37 -0400 (Thu, 17 Oct 2024) EndedAt: 2024-10-17 07:53:03 -0400 (Thu, 17 Oct 2024) EllapsedTime: 26.0 seconds RetCode: 0 Status: OK PackageFile: gep2pep_1.24.0.zip PackageFileSize: 470.3 KiB