Package: gep2pep Version: 1.24.0 Command: E:\biocbuild\bbs-3.19-bioc\R\bin\R.exe CMD check --no-multiarch --install=check:gep2pep.install-out.txt --library=E:\biocbuild\bbs-3.19-bioc\R\library --no-vignettes --timings gep2pep_1.24.0.tar.gz StartedAt: 2024-10-17 01:54:36 -0400 (Thu, 17 Oct 2024) EndedAt: 2024-10-17 01:57:49 -0400 (Thu, 17 Oct 2024) EllapsedTime: 193.3 seconds RetCode: 0 Status: OK CheckDir: gep2pep.Rcheck Warnings: 0