Package: gespeR Version: 1.36.0 Maintainer: Fabian Schmich MaintainerEmail: fabian.schmich at bsse.ethz.ch git_url: https://git.bioconductor.org/packages/gespeR git_branch: RELEASE_3_19 git_last_commit: a1e0cc3 git_last_commit_date: 2024-04-30 10:41:08 -0400 (Tue, 30 Apr 2024)