Package: gespeR Version: 1.36.0 Command: /home/biocbuild/R/R-beta-2024-04-15_r86425/bin/R CMD build --keep-empty-dirs --no-resave-data gespeR StartedAt: 2024-05-09 00:34:26 -0000 (Thu, 09 May 2024) EndedAt: 2024-05-09 00:35:28 -0000 (Thu, 09 May 2024) EllapsedTime: 62.1 seconds RetCode: 0 Status: OK PackageFile: gespeR_1.36.0.tar.gz PackageFileSize: 24.32 MiB