Package: gespeR Version: 1.36.0 Command: chmod a+r gespeR -R && E:\biocbuild\bbs-3.19-bioc\R\bin\R.exe CMD build --keep-empty-dirs --no-resave-data gespeR StartedAt: 2024-10-16 19:25:53 -0400 (Wed, 16 Oct 2024) EndedAt: 2024-10-16 19:27:00 -0400 (Wed, 16 Oct 2024) EllapsedTime: 67.4 seconds RetCode: 0 Status: OK PackageFile: gespeR_1.36.0.tar.gz PackageFileSize: 24.31 MiB