Package: gg4way Version: 1.2.0 Command: /Library/Frameworks/R.framework/Resources/bin/R CMD build --keep-empty-dirs --no-resave-data gg4way StartedAt: 2024-10-17 01:18:06 -0400 (Thu, 17 Oct 2024) EndedAt: 2024-10-17 01:19:48 -0400 (Thu, 17 Oct 2024) EllapsedTime: 102.2 seconds RetCode: 0 Status: OK PackageFile: gg4way_1.2.0.tar.gz PackageFileSize: 3.617 MiB