Package: gg4way Version: 1.2.0 Command: /Library/Frameworks/R.framework/Resources/bin/R CMD INSTALL gg4way StartedAt: 2024-10-16 16:30:07 -0400 (Wed, 16 Oct 2024) EndedAt: 2024-10-16 16:30:39 -0400 (Wed, 16 Oct 2024) EllapsedTime: 31.7 seconds RetCode: 0 Status: OK