Package: gg4way Version: 1.2.0 Command: rm -rf gg4way.buildbin-libdir && mkdir gg4way.buildbin-libdir && /Users/biocbuild/BBS/utils/build-universal.sh gg4way_1.2.0.tar.gz /Library/Frameworks/R.framework/Resources/bin/R gg4way.buildbin-libdir StartedAt: 2024-10-17 16:16:03 -0400 (Thu, 17 Oct 2024) EndedAt: 2024-10-17 16:17:13 -0400 (Thu, 17 Oct 2024) EllapsedTime: 69.4 seconds RetCode: 0 Status: OK PackageFile: gg4way_1.2.0.tgz PackageFileSize: 3.606 MiB