Package: ggkegg Version: 1.2.0 Command: /Library/Frameworks/R.framework/Resources/bin/R CMD build --keep-empty-dirs --no-resave-data ggkegg StartedAt: 2024-06-09 16:47:52 -0400 (Sun, 09 Jun 2024) EndedAt: 2024-06-09 16:48:49 -0400 (Sun, 09 Jun 2024) EllapsedTime: 56.5 seconds RetCode: 0 Status: OK PackageFile: ggkegg_1.2.0.tar.gz PackageFileSize: 3.459 MiB