Package: ggkegg Version: 1.2.3 Command: /home/biocbuild/bbs-3.19-bioc/R/bin/R CMD build --keep-empty-dirs --no-resave-data ggkegg StartedAt: 2024-10-16 18:43:07 -0400 (Wed, 16 Oct 2024) EndedAt: 2024-10-16 18:43:52 -0400 (Wed, 16 Oct 2024) EllapsedTime: 45.1 seconds RetCode: 0 Status: OK PackageFile: ggkegg_1.2.3.tar.gz PackageFileSize: 3.299 MiB