Package: ggkegg Version: 1.2.3 Command: /home/biocbuild/bbs-3.19-bioc/R/bin/R CMD INSTALL ggkegg StartedAt: 2024-10-16 16:00:57 -0400 (Wed, 16 Oct 2024) EndedAt: 2024-10-16 16:01:18 -0400 (Wed, 16 Oct 2024) EllapsedTime: 20.3 seconds RetCode: 0 Status: OK