Package: ggkegg Version: 1.2.3 Command: rm -rf ggkegg.buildbin-libdir && mkdir ggkegg.buildbin-libdir && E:\biocbuild\bbs-3.19-bioc\R\bin\R.exe CMD INSTALL --build --library=ggkegg.buildbin-libdir ggkegg_1.2.3.tar.gz StartedAt: 2024-10-17 07:53:01 -0400 (Thu, 17 Oct 2024) EndedAt: 2024-10-17 07:53:47 -0400 (Thu, 17 Oct 2024) EllapsedTime: 45.8 seconds RetCode: 0 Status: OK PackageFile: ggkegg_1.2.3.zip PackageFileSize: 3.061 MiB