Package: ggmsa Version: 1.10.0 Command: /Library/Frameworks/R.framework/Resources/bin/R CMD build --keep-empty-dirs --no-resave-data ggmsa StartedAt: 2024-10-16 19:35:29 -0400 (Wed, 16 Oct 2024) EndedAt: 2024-10-16 19:36:56 -0400 (Wed, 16 Oct 2024) EllapsedTime: 86.6 seconds RetCode: 0 Status: OK PackageFile: ggmsa_1.10.0.tar.gz PackageFileSize: 3.721 MiB