Package: ggmsa Version: 1.10.0 Command: chmod a+r ggmsa -R && E:\biocbuild\bbs-3.19-bioc\R\bin\R.exe CMD build --keep-empty-dirs --no-resave-data ggmsa StartedAt: 2024-10-16 19:27:02 -0400 (Wed, 16 Oct 2024) EndedAt: 2024-10-16 19:28:49 -0400 (Wed, 16 Oct 2024) EllapsedTime: 107.5 seconds RetCode: 0 Status: OK PackageFile: ggmsa_1.10.0.tar.gz PackageFileSize: 3.359 MiB